BEGIN:VCALENDAR
VERSION:2.0
PRODID:-//ChamberMaster//Event Calendar 2.0//EN
METHOD:PUBLISH
X-PUBLISHED-TTL:P1H
REFRESH-INTERVAL:P1H
CALSCALE:GREGORIAN
BEGIN:VTIMEZONE
TZID:America/New_York
BEGIN:DAYLIGHT
RRULE:FREQ=YEARLY;BYMONTH=3;BYDAY=2SU
DTSTART:20070101T000000
TZOFFSETFROM:-0500
TZOFFSETTO:-0400
TZNAME:Eastern Daylight Time
END:DAYLIGHT
BEGIN:STANDARD
RRULE:FREQ=YEARLY;BYMONTH=11;BYDAY=1SU
DTSTART:20070101T000000
TZOFFSETFROM:-0400
TZOFFSETTO:-0500
TZNAME:Eastern Standard Time
END:STANDARD
END:VTIMEZONE
BEGIN:VEVENT
DTSTART;TZID=America/New_York:20260508T080000
DTEND;TZID=America/New_York:20260508T140000
X-MICROSOFT-CDO-ALLDAYEVENT:FALSE
SUMMARY:39th Annual Golf Classic
DESCRIPTION:A tradition nearly four decades in the making. Join us for the 39th Annual Golf Classic\, a day where sport meets spirit. For 39 years\, our members and partners have gathered on the green to support the Cecil County Chamber\, and this year\, we're swinging bigger than ever.  Whether you're eyeing the hole-in-one prize or just looking to enjoy a perfect day on a championship course\, your presence helps drive our mission forward. Step up to the tee box and be a part of the legacy. Register your foursome or become a sponsor today!
X-ALT-DESC;FMTTYPE=text/html:<!DOCTYPE html><html><head><title></title></head><body aria-disabled="false"><p>A tradition nearly four decades in the making. Join us for the 39th Annual Golf Classic\, a day where sport meets spirit. For 39 years\, our members and partners have gathered on the green to support the Cecil County Chamber\, and this year\, we&rsquo\;re swinging bigger than ever. &nbsp\;Whether you&rsquo\;re eyeing the hole-in-one prize or just looking to enjoy a perfect day on a championship course\, your presence helps drive our mission forward. Step up to the tee box and be a part of the legacy. Register your foursome or become a sponsor today!</p></body></html>
LOCATION:79 Chesapeake View Perryville MD 21903
UID:e.4534.1369428
SEQUENCE:3
DTSTAMP:20260419T202105Z
URL:https://connect.cecilchamber.com/events/Details/39th-annual-golf-classic-1616368?sourceTypeId=Hub
END:VEVENT
END:VCALENDAR
