BEGIN:VCALENDAR
VERSION:2.0
PRODID:-//ChamberMaster//Event Calendar 2.0//EN
METHOD:PUBLISH
X-PUBLISHED-TTL:P1H
REFRESH-INTERVAL:P1H
CALSCALE:GREGORIAN
BEGIN:VTIMEZONE
TZID:America/New_York
BEGIN:DAYLIGHT
RRULE:FREQ=YEARLY;BYMONTH=3;BYDAY=2SU
DTSTART:20070101T000000
TZOFFSETFROM:-0500
TZOFFSETTO:-0400
TZNAME:Eastern Daylight Time
END:DAYLIGHT
BEGIN:STANDARD
RRULE:FREQ=YEARLY;BYMONTH=11;BYDAY=1SU
DTSTART:20070101T000000
TZOFFSETFROM:-0400
TZOFFSETTO:-0500
TZNAME:Eastern Standard Time
END:STANDARD
END:VTIMEZONE
BEGIN:VEVENT
DTSTART;TZID=America/New_York:20260625T110000
DTEND;TZID=America/New_York:20260625T130000
X-MICROSOFT-CDO-ALLDAYEVENT:FALSE
SUMMARY:Annual Gavel Exchange
DESCRIPTION:Join us for one of the Chamber’s most significant traditions. The Annual Gavel Exchange is more than a transition of leadership\; it is a celebration of our collective resilience and a roadmap for the year ahead. We will pause to recognize the milestones we’ve achieved together in the past 12 months and provide a first look at the strategic goals that will drive Cecil County’s economy forward in the coming year. This is your opportunity to meet the incoming Board of Directors\, the dedicated leaders who will serve as your advocates and partners in growth.
X-ALT-DESC;FMTTYPE=text/html:Join us for one of the Chamber’s most significant traditions. The Annual Gavel Exchange is more than a transition of leadership\; it is a celebration of our collective resilience and a roadmap for the year ahead. We will pause to recognize the milestones we’ve achieved together in the past 12 months and provide a first look at the strategic goals that will drive Cecil County’s economy forward in the coming year. This is your opportunity to meet the incoming Board of Directors\, the dedicated leaders who will serve as your advocates and partners in growth.
LOCATION:
UID:e.4534.1394711
SEQUENCE:3
DTSTAMP:20260419T202136Z
URL:https://connect.cecilchamber.com/events/Details/annual-gavel-exchange-1648041?sourceTypeId=Hub
END:VEVENT
END:VCALENDAR
