BEGIN:VCALENDAR
VERSION:2.0
PRODID:-//ChamberMaster//Event Calendar 2.0//EN
METHOD:PUBLISH
X-PUBLISHED-TTL:P1H
REFRESH-INTERVAL:P1H
CALSCALE:GREGORIAN
BEGIN:VTIMEZONE
TZID:America/New_York
BEGIN:DAYLIGHT
RRULE:FREQ=YEARLY;BYMONTH=3;BYDAY=2SU
DTSTART:20070101T000000
TZOFFSETFROM:-0500
TZOFFSETTO:-0400
TZNAME:Eastern Daylight Time
END:DAYLIGHT
BEGIN:STANDARD
RRULE:FREQ=YEARLY;BYMONTH=11;BYDAY=1SU
DTSTART:20070101T000000
TZOFFSETFROM:-0400
TZOFFSETTO:-0500
TZNAME:Eastern Standard Time
END:STANDARD
END:VTIMEZONE
BEGIN:VEVENT
DTSTART;TZID=America/New_York:20260519T090000
DTEND;TZID=America/New_York:20260519T110000
X-MICROSOFT-CDO-ALLDAYEVENT:FALSE
SUMMARY:Business Mastery Series- Grant Writing 2.0
DESCRIPTION:You know how to write a grant. Now\, learn how to win it. Last year\, we covered the "What" and the "How". This year\, we're diving into the "Art".  Join us for an intensive\, high-level masterclass designed for those ready to move past the templates and into the strategic storytelling that captures a funder's imagination. This isn't just a session\, it's a workshop. We are moving beyond the checkboxes to focus on the nuance of a compelling narrative\, the strategy of budget alignment\, and the psychology of the review committee.
X-ALT-DESC;FMTTYPE=text/html:<!DOCTYPE html><html><head><title></title></head><body aria-disabled="false"><p>You know how to write a grant. Now\, learn how to win it. Last year\, we covered the &quot\;What&quot\; and the &quot\;How&quot\;. This year\, we&rsquo\;re diving into the &quot\;Art&quot\;. &nbsp\;Join us for an intensive\, high-level masterclass designed for those ready to move past the templates and into the strategic storytelling that captures a funder&rsquo\;s imagination. This isn&#39\;t just a session\, it&rsquo\;s a workshop. We are moving beyond the checkboxes to focus on the nuance of a compelling narrative\, the strategy of budget alignment\, and the psychology of the review committee.</p></body></html>
LOCATION:MD
UID:e.4534.1368232
SEQUENCE:3
DTSTAMP:20260419T202516Z
URL:https://connect.cecilchamber.com/events/Details/business-mastery-series-grant-writing-2-0-1614411?sourceTypeId=Hub
END:VEVENT
END:VCALENDAR
