BEGIN:VCALENDAR
VERSION:2.0
PRODID:-//ChamberMaster//Event Calendar 2.0//EN
METHOD:PUBLISH
X-PUBLISHED-TTL:P1H
REFRESH-INTERVAL:P1H
CALSCALE:GREGORIAN
BEGIN:VTIMEZONE
TZID:America/New_York
BEGIN:DAYLIGHT
RRULE:FREQ=YEARLY;BYMONTH=3;BYDAY=2SU
DTSTART:20070101T000000
TZOFFSETFROM:-0500
TZOFFSETTO:-0400
TZNAME:Eastern Daylight Time
END:DAYLIGHT
BEGIN:STANDARD
RRULE:FREQ=YEARLY;BYMONTH=11;BYDAY=1SU
DTSTART:20070101T000000
TZOFFSETFROM:-0400
TZOFFSETTO:-0500
TZNAME:Eastern Standard Time
END:STANDARD
END:VTIMEZONE
BEGIN:VEVENT
DTSTART;TZID=America/New_York:20260603T100000
DTEND;TZID=America/New_York:20260603T113000
X-MICROSOFT-CDO-ALLDAYEVENT:FALSE
SUMMARY:Chamber MasterClass
DESCRIPTION:Whether you are a long-time member or a local business owner looking to get involved\, the Chamber Masterclass is your monthly "insider's guide" to navigating Cecil County’s professional landscape. This isn't just a meeting\; it’s a high-impact orientation designed to show you exactly how to turn your membership into a growth engine. What to expect: The Blueprint: A deep dive into our membership tiers and benefits\, find out which level of support aligns with your 2026 goals. The Network: High-quality networking with fellow local leaders in a relaxed setting. The Voices of Success: Brief\, punchy insights from our Chamber Ambassadors on how to engage\, our Affinity Partners on exclusive cost-saving perks\, and our Monthly Host on their journey in our community. Open to all! Come see what the Chamber can do for you.
X-ALT-DESC;FMTTYPE=text/html:Whether you are a long-time member or a local business owner looking to get involved\, the Chamber Masterclass is your monthly "insider's guide" to navigating Cecil County’s professional landscape. This isn't just a meeting\; it’s a high-impact orientation designed to show you exactly how to turn your membership into a growth engine. What to expect: The Blueprint: A deep dive into our membership tiers and benefits\, find out which level of support aligns with your 2026 goals. The Network: High-quality networking with fellow local leaders in a relaxed setting. The Voices of Success: Brief\, punchy insights from our Chamber Ambassadors on how to engage\, our Affinity Partners on exclusive cost-saving perks\, and our Monthly Host on their journey in our community. Open to all! Come see what the Chamber can do for you.
LOCATION:MD
UID:e.4534.1394697
SEQUENCE:3
DTSTAMP:20260419T201806Z
URL:https://connect.cecilchamber.com/events/Details/chamber-masterclass-1647992?sourceTypeId=Hub
END:VEVENT
END:VCALENDAR
