BEGIN:VCALENDAR
VERSION:2.0
PRODID:-//ChamberMaster//Event Calendar 2.0//EN
METHOD:PUBLISH
X-PUBLISHED-TTL:P1H
REFRESH-INTERVAL:P1H
CALSCALE:GREGORIAN
BEGIN:VTIMEZONE
TZID:America/New_York
BEGIN:DAYLIGHT
RRULE:FREQ=YEARLY;BYMONTH=3;BYDAY=2SU
DTSTART:20070101T000000
TZOFFSETFROM:-0500
TZOFFSETTO:-0400
TZNAME:Eastern Daylight Time
END:DAYLIGHT
BEGIN:STANDARD
RRULE:FREQ=YEARLY;BYMONTH=11;BYDAY=1SU
DTSTART:20070101T000000
TZOFFSETFROM:-0400
TZOFFSETTO:-0500
TZNAME:Eastern Standard Time
END:STANDARD
END:VTIMEZONE
BEGIN:VEVENT
DTSTART;TZID=America/New_York:20260825T080000
DTEND;TZID=America/New_York:20260825T090000
X-MICROSOFT-CDO-ALLDAYEVENT:FALSE
SUMMARY:Coffee and Connections
DESCRIPTION:Fuel Your Morning\, Grow Your Network Stop by for the caffeine\, stay for the connections! Coffee & Connections isn't your average "stand-around-and-chat" morning. We’ve redesigned our networking to ensure you walk away with more than just a stack of business cards\, you walk away with real relationships. Whether you’re a seasoned CEO or a new Entrepreneur\, this is your chance to engage with Cecil County’s vibrant business community in a relaxed\, high-energy environment. What to expect: Interactive Networking: No awkward silences here! We use curated networking strategies and guided introductions to make meeting new partners easy and fun. Host Spotlight: Get an exclusive "behind-the-scenes" look at our host\, and hear their story of success in Cecil County. The "Ask & Offer": A dedicated moment to share what your business needs and what expertise you can offer the group.
X-ALT-DESC;FMTTYPE=text/html:Fuel Your Morning\, Grow Your Network Stop by for the caffeine\, stay for the connections! Coffee & Connections isn't your average "stand-around-and-chat" morning. We’ve redesigned our networking to ensure you walk away with more than just a stack of business cards\, you walk away with real relationships. Whether you’re a seasoned CEO or a new Entrepreneur\, this is your chance to engage with Cecil County’s vibrant business community in a relaxed\, high-energy environment. What to expect: Interactive Networking: No awkward silences here! We use curated networking strategies and guided introductions to make meeting new partners easy and fun. Host Spotlight: Get an exclusive "behind-the-scenes" look at our host\, and hear their story of success in Cecil County. The "Ask & Offer": A dedicated moment to share what your business needs and what expertise you can offer the group.
LOCATION:
UID:e.4534.1394946
SEQUENCE:3
DTSTAMP:20260419T202002Z
URL:https://connect.cecilchamber.com/events/Details/coffee-and-connections-1648345?sourceTypeId=Hub
END:VEVENT
END:VCALENDAR
