BEGIN:VCALENDAR
VERSION:2.0
PRODID:-//ChamberMaster//Event Calendar 2.0//EN
METHOD:PUBLISH
X-PUBLISHED-TTL:P1H
REFRESH-INTERVAL:P1H
CALSCALE:GREGORIAN
BEGIN:VTIMEZONE
TZID:America/New_York
BEGIN:DAYLIGHT
RRULE:FREQ=YEARLY;BYMONTH=3;BYDAY=2SU
DTSTART:20070101T000000
TZOFFSETFROM:-0500
TZOFFSETTO:-0400
TZNAME:Eastern Daylight Time
END:DAYLIGHT
BEGIN:STANDARD
RRULE:FREQ=YEARLY;BYMONTH=11;BYDAY=1SU
DTSTART:20070101T000000
TZOFFSETFROM:-0400
TZOFFSETTO:-0500
TZNAME:Eastern Standard Time
END:STANDARD
END:VTIMEZONE
BEGIN:VEVENT
DTSTART;TZID=America/New_York:20260423T080000
DTEND;TZID=America/New_York:20260423T100000
X-MICROSOFT-CDO-ALLDAYEVENT:FALSE
SUMMARY:Legislative Wrap Up Breakfast
DESCRIPTION:Politics moves fast\, but its impact is long-lasting. After 90 days of intense debate and decision-making in Annapolis\, our local representatives are coming home to share the results with the Cecil County business community.\n\nThe Legislative Wrap-Up Breakfast serves as the bridge between our local businesses and state government. This session is designed to simplify complex policy into actionable insights for business leaders. Whether it’s environmental regulations\, transportation funding\, or workforce development\, find out how our delegation fought for Cecil County’s interests on the house and senate floors.\n\nHighlights:\n\nKeynote Remarks: Insights from our local Delegates and Senators.\n\nThe "Voice of Business" Update: A summary of the Chamber’s advocacy efforts during the session.\n\nProfessional Networking: Connect with other civic-minded leaders over a hot breakfast.
X-ALT-DESC;FMTTYPE=text/html:Politics moves fast\, but its impact is long-lasting. After 90 days of intense debate and decision-making in Annapolis\, our local representatives are coming home to share the results with the Cecil County business community.\n\nThe Legislative Wrap-Up Breakfast serves as the bridge between our local businesses and state government. This session is designed to simplify complex policy into actionable insights for business leaders. Whether it’s environmental regulations\, transportation funding\, or workforce development\, find out how our delegation fought for Cecil County’s interests on the house and senate floors.\n\nHighlights:\n\nKeynote Remarks: Insights from our local Delegates and Senators.\n\nThe "Voice of Business" Update: A summary of the Chamber’s advocacy efforts during the session.\n\nProfessional Networking: Connect with other civic-minded leaders over a hot breakfast.
LOCATION:One Seahawk Dr. Technology Center\, Room D208 North East MD 21901
UID:e.4534.1368869
SEQUENCE:3
DTSTAMP:20260419T201822Z
URL:https://connect.cecilchamber.com/events/Details/legislative-wrap-up-breakfast-1615304?sourceTypeId=Hub
END:VEVENT
END:VCALENDAR
