BEGIN:VCALENDAR
VERSION:2.0
PRODID:-//ChamberMaster//Event Calendar 2.0//EN
METHOD:PUBLISH
X-PUBLISHED-TTL:P1H
REFRESH-INTERVAL:P1H
CALSCALE:GREGORIAN
BEGIN:VTIMEZONE
TZID:America/New_York
BEGIN:DAYLIGHT
RRULE:FREQ=YEARLY;BYMONTH=3;BYDAY=2SU
DTSTART:20070101T000000
TZOFFSETFROM:-0500
TZOFFSETTO:-0400
TZNAME:Eastern Daylight Time
END:DAYLIGHT
BEGIN:STANDARD
RRULE:FREQ=YEARLY;BYMONTH=11;BYDAY=1SU
DTSTART:20070101T000000
TZOFFSETFROM:-0400
TZOFFSETTO:-0500
TZNAME:Eastern Standard Time
END:STANDARD
END:VTIMEZONE
BEGIN:VEVENT
DTSTART;TZID=America/New_York:20260417T113000
DTEND;TZID=America/New_York:20260417T133000
X-MICROSOFT-CDO-ALLDAYEVENT:FALSE
SUMMARY:Member Appreciation Picnic
DESCRIPTION:To celebrate the incredible community that makes our work possible\, we're heading out for an afternoon of pure relaxation. No agendas\, no presentations\, just good food and even better company. So whether you've been a member for 10 years or 10 days\, we want to thank you! Bring your appetite and get ready to receive this year's Member Directory!
X-ALT-DESC;FMTTYPE=text/html:<!DOCTYPE html><html><head><title></title></head><body aria-disabled="false"><p>To celebrate the incredible community that makes our work possible\, we&rsquo\;re heading out for an afternoon of pure relaxation. No agendas\, no presentations\, just good food and even better company. So whether you&#39\;ve been a member for 10 years or 10 days\, we want to thank you! Bring your appetite and get ready to receive this year&#39\;s Member Directory!</p></body></html>
LOCATION:107 North St Elkton 21921
UID:e.4534.1368828
SEQUENCE:3
DTSTAMP:20260419T202105Z
URL:https://connect.cecilchamber.com/events/Details/member-appreciation-picnic-1615263?sourceTypeId=Hub
END:VEVENT
END:VCALENDAR
