BEGIN:VCALENDAR
VERSION:2.0
PRODID:-//ChamberMaster//Event Calendar 2.0//EN
METHOD:PUBLISH
X-PUBLISHED-TTL:P1H
REFRESH-INTERVAL:P1H
CALSCALE:GREGORIAN
BEGIN:VTIMEZONE
TZID:America/New_York
BEGIN:DAYLIGHT
RRULE:FREQ=YEARLY;BYMONTH=3;BYDAY=2SU
DTSTART:20070101T000000
TZOFFSETFROM:-0500
TZOFFSETTO:-0400
TZNAME:Eastern Daylight Time
END:DAYLIGHT
BEGIN:STANDARD
RRULE:FREQ=YEARLY;BYMONTH=11;BYDAY=1SU
DTSTART:20070101T000000
TZOFFSETFROM:-0400
TZOFFSETTO:-0500
TZNAME:Eastern Standard Time
END:STANDARD
END:VTIMEZONE
BEGIN:VEVENT
DTSTART;TZID=America/New_York:20260310T180000
DTEND;TZID=America/New_York:20260529T160000
X-MICROSOFT-CDO-ALLDAYEVENT:FALSE
SUMMARY:Military Spouse Entrepreneur Sessions
DESCRIPTION:Project Opportunity is an intensive curriculum based 10-week cohort program that meets \nevery Tuesday evening from 6:00-9:00PM. The curriculum and material are facilitated by \nsmall business professionals and subject matter experts. The program concludes with a \nformal Graduation Ceremony and Business Pitch Competition.\nTraining Includes:\n Assessing Your Business Idea \n Marketing Analysis \n Financing and Financial Management\n Business Structure and Taxes \n Development of a Business Plan
X-ALT-DESC;FMTTYPE=text/html:Project Opportunity is an intensive curriculum based 10-week cohort program that meets \nevery Tuesday evening from 6:00-9:00PM. The curriculum and material are facilitated by \nsmall business professionals and subject matter experts. The program concludes with a \nformal Graduation Ceremony and Business Pitch Competition.\nTraining Includes:\n Assessing Your Business Idea \n Marketing Analysis \n Financing and Financial Management\n Business Structure and Taxes \n Development of a Business Plan
LOCATION:1201 Technology Drive Aberdeen MD
UID:e.4534.1363905
SEQUENCE:3
DTSTAMP:20260419T202516Z
URL:https://connect.cecilchamber.com/events/Details/military-spouse-entrepreneur-sessions-1608200?sourceTypeId=Hub
END:VEVENT
END:VCALENDAR
