BEGIN:VCALENDAR
VERSION:2.0
PRODID:-//ChamberMaster//Event Calendar 2.0//EN
METHOD:PUBLISH
X-PUBLISHED-TTL:P1H
REFRESH-INTERVAL:P1H
CALSCALE:GREGORIAN
BEGIN:VTIMEZONE
TZID:America/New_York
BEGIN:DAYLIGHT
RRULE:FREQ=YEARLY;BYMONTH=3;BYDAY=2SU
DTSTART:20070101T000000
TZOFFSETFROM:-0500
TZOFFSETTO:-0400
TZNAME:Eastern Daylight Time
END:DAYLIGHT
BEGIN:STANDARD
RRULE:FREQ=YEARLY;BYMONTH=11;BYDAY=1SU
DTSTART:20070101T000000
TZOFFSETFROM:-0400
TZOFFSETTO:-0500
TZNAME:Eastern Standard Time
END:STANDARD
END:VTIMEZONE
BEGIN:VEVENT
DTSTART;TZID=America/New_York:20260820T160000
DTEND;TZID=America/New_York:20260820T180000
X-MICROSOFT-CDO-ALLDAYEVENT:FALSE
SUMMARY:Multi-Chamber Mixer
DESCRIPTION:Three Chambers. Two States. One Unforgettable Evening. Experience Networking on the Waterfront. Why settle for one network when you can have three? Join the Cecil County\, Middletown\, and New Castle County Chambers of Commerce for our premier multi-chamber mixer at the iconic Chesapeake Inn Restaurant   it’s a celebration of our regional business community.
X-ALT-DESC;FMTTYPE=text/html:Three Chambers. Two States. One Unforgettable Evening. Experience Networking on the Waterfront. Why settle for one network when you can have three? Join the Cecil County\, Middletown\, and New Castle County Chambers of Commerce for our premier multi-chamber mixer at the iconic Chesapeake Inn Restaurant & Marina. As the August sun sets over the water\, we’re bringing together the most influential professionals from Maryland and Delaware for a night of high-impact networking and summer fun. This isn't just a meeting\; it’s a celebration of our regional business community.
LOCATION:605 2nd St. Chesapeake City MD 21915
UID:e.4534.1394756
SEQUENCE:3
DTSTAMP:20260419T201822Z
URL:https://connect.cecilchamber.com/events/Details/multi-chamber-mixer-1648107?sourceTypeId=Hub
END:VEVENT
END:VCALENDAR
