BEGIN:VCALENDAR
VERSION:2.0
PRODID:-//ChamberMaster//Event Calendar 2.0//EN
METHOD:PUBLISH
X-PUBLISHED-TTL:P1H
REFRESH-INTERVAL:P1H
CALSCALE:GREGORIAN
BEGIN:VTIMEZONE
TZID:America/New_York
BEGIN:DAYLIGHT
RRULE:FREQ=YEARLY;BYMONTH=3;BYDAY=2SU
DTSTART:20070101T000000
TZOFFSETFROM:-0500
TZOFFSETTO:-0400
TZNAME:Eastern Daylight Time
END:DAYLIGHT
BEGIN:STANDARD
RRULE:FREQ=YEARLY;BYMONTH=11;BYDAY=1SU
DTSTART:20070101T000000
TZOFFSETFROM:-0400
TZOFFSETTO:-0500
TZNAME:Eastern Standard Time
END:STANDARD
END:VTIMEZONE
BEGIN:VEVENT
DTSTART;VALUE=DATE:20260612
DTEND;VALUE=DATE:20260613
TRANSP:TRANSPARENT
X-MICROSOFT-CDO-ALLDAYEVENT:TRUE
SUMMARY:Second Fridays on Main
DESCRIPTION:Main Street in North East comes alive the Second Friday in June to the theme of Rocking Through the Decades! Join musicians in three locations while they share songs that will bring back memories: Elk River Brewing Company\, The Green and Snatchers Creekside. Pick your favorite decade and dress the part!!
X-ALT-DESC;FMTTYPE=text/html:<!DOCTYPE html><html><head><title></title></head><body aria-disabled="false"><p>Main Street in North East comes alive the Second Friday in June to the theme of Rocking Through the Decades! Join musicians in three locations while they share songs that will bring back memories: Elk River Brewing Company\, The Green and Snatchers Creekside. Pick your favorite decade and dress the part!!</p></body></html>
LOCATION:126 S. Main Street North East MD 21901
UID:e.4534.1398699
SEQUENCE:3
DTSTAMP:20260419T201956Z
URL:https://connect.cecilchamber.com/events/Details/second-fridays-on-main-1652572?sourceTypeId=Hub
END:VEVENT
END:VCALENDAR
