BEGIN:VCALENDAR
VERSION:2.0
PRODID:-//ChamberMaster//Event Calendar 2.0//EN
METHOD:PUBLISH
X-PUBLISHED-TTL:P1H
REFRESH-INTERVAL:P1H
CALSCALE:GREGORIAN
BEGIN:VTIMEZONE
TZID:America/New_York
BEGIN:DAYLIGHT
RRULE:FREQ=YEARLY;BYMONTH=3;BYDAY=2SU
DTSTART:20070101T000000
TZOFFSETFROM:-0500
TZOFFSETTO:-0400
TZNAME:Eastern Daylight Time
END:DAYLIGHT
BEGIN:STANDARD
RRULE:FREQ=YEARLY;BYMONTH=11;BYDAY=1SU
DTSTART:20070101T000000
TZOFFSETFROM:-0400
TZOFFSETTO:-0500
TZNAME:Eastern Standard Time
END:STANDARD
END:VTIMEZONE
BEGIN:VEVENT
DTSTART;VALUE=DATE:20260911
DTEND;VALUE=DATE:20260912
TRANSP:TRANSPARENT
X-MICROSOFT-CDO-ALLDAYEVENT:TRUE
SUMMARY:Second Fridays On Main
DESCRIPTION:Main Street in North East comes alive the Second Friday in September to honor our first responders on the 25th anniversary of 9/11.  Join musicians in three locations while we celebrate our brave men and women who serve and protect us every day:  Elk River Brewing Company\, The Green and Snatchers Creekside. Come to town with a grateful heart and show your appreciation to our first responders!
X-ALT-DESC;FMTTYPE=text/html:Main Street in North East comes alive the Second Friday in September to honor our first responders on the 25th anniversary of 9/11.  Join musicians in three locations while we celebrate our brave men and women who serve and protect us every day:  Elk River Brewing Company\, The Green and Snatchers Creekside. Come to town with a grateful heart and show your appreciation to our first responders!
LOCATION:126 S. Main Street North East MD 21901
UID:e.4534.1398715
SEQUENCE:3
DTSTAMP:20260421T084928Z
URL:https://connect.cecilchamber.com/events/Details/second-fridays-on-main-1652588?sourceTypeId=Hub
END:VEVENT
END:VCALENDAR
