BEGIN:VCALENDAR
VERSION:2.0
PRODID:-//ChamberMaster//Event Calendar 2.0//EN
METHOD:PUBLISH
X-PUBLISHED-TTL:P1H
REFRESH-INTERVAL:P1H
CALSCALE:GREGORIAN
BEGIN:VTIMEZONE
TZID:America/New_York
BEGIN:DAYLIGHT
RRULE:FREQ=YEARLY;BYMONTH=3;BYDAY=2SU
DTSTART:20070101T000000
TZOFFSETFROM:-0500
TZOFFSETTO:-0400
TZNAME:Eastern Daylight Time
END:DAYLIGHT
BEGIN:STANDARD
RRULE:FREQ=YEARLY;BYMONTH=11;BYDAY=1SU
DTSTART:20070101T000000
TZOFFSETFROM:-0400
TZOFFSETTO:-0500
TZNAME:Eastern Standard Time
END:STANDARD
END:VTIMEZONE
BEGIN:VEVENT
DTSTART;VALUE=DATE:20261009
DTEND;VALUE=DATE:20261010
TRANSP:TRANSPARENT
X-MICROSOFT-CDO-ALLDAYEVENT:TRUE
SUMMARY:Second Fridays On Main
DESCRIPTION:Main Street in North East comes alive the Second Friday in October to the theme of Football and Tailgates!!  Join musicians in three locations while they share songs to have you dancing for the finale of our Second Fridays Series:  Elk River Brewing Company\, The Green and Snatchers Creekside. Wear your favorite team jersey and join us in town with mascots\, cheerleaders\, tailgate food and fun!!!
X-ALT-DESC;FMTTYPE=text/html:Main Street in North East comes alive the Second Friday in October to the theme of Football and Tailgates!!  Join musicians in three locations while they share songs to have you dancing for the finale of our Second Fridays Series:  Elk River Brewing Company\, The Green and Snatchers Creekside. Wear your favorite team jersey and join us in town with mascots\, cheerleaders\, tailgate food and fun!!!
LOCATION:126 S. Main Street North East MD 21901
UID:e.4534.1398721
SEQUENCE:3
DTSTAMP:20260419T202008Z
URL:https://connect.cecilchamber.com/events/Details/second-fridays-on-main-1652594?sourceTypeId=Hub
END:VEVENT
END:VCALENDAR
